BEGIN:VCALENDAR
VERSION:2.0
PRODID:ics.py - http://git.io/lLljaA
BEGIN:VEVENT
DESCRIPTION:Stay tuned for details\n\nCalendar Link: https://emscimprovement.center/state-organizations/ct/pecc-conference/2025-pecc-conference/
DTEND:20250311T190000Z
LOCATION:4 Middletown Ave\, East Hampton\, CT 06424
DTSTART:20250311T130000Z
SUMMARY:2025 PECC Conference
UID:5919016a-c66a-4c02-b6da-13704b5758d3@5919.org
END:VEVENT
END:VCALENDAR